
BEGIN:VCALENDAR
VERSION:2.0
PRODID:-//Kiisa alevik - ECPv6.15.12//NONSGML v1.0//EN
CALSCALE:GREGORIAN
METHOD:PUBLISH
X-WR-CALNAME:Kiisa alevik
X-ORIGINAL-URL:https://kiisaalevik.ee
X-WR-CALDESC:Events for Kiisa alevik
REFRESH-INTERVAL;VALUE=DURATION:PT1H
X-Robots-Tag:noindex
X-PUBLISHED-TTL:PT1H
BEGIN:VTIMEZONE
TZID:Europe/Tallinn
BEGIN:DAYLIGHT
TZOFFSETFROM:+0200
TZOFFSETTO:+0300
TZNAME:EEST
DTSTART:20160327T010000
END:DAYLIGHT
BEGIN:STANDARD
TZOFFSETFROM:+0300
TZOFFSETTO:+0200
TZNAME:EET
DTSTART:20161030T010000
END:STANDARD
BEGIN:DAYLIGHT
TZOFFSETFROM:+0200
TZOFFSETTO:+0300
TZNAME:EEST
DTSTART:20170326T010000
END:DAYLIGHT
BEGIN:STANDARD
TZOFFSETFROM:+0300
TZOFFSETTO:+0200
TZNAME:EET
DTSTART:20171029T010000
END:STANDARD
BEGIN:DAYLIGHT
TZOFFSETFROM:+0200
TZOFFSETTO:+0300
TZNAME:EEST
DTSTART:20180325T010000
END:DAYLIGHT
BEGIN:STANDARD
TZOFFSETFROM:+0300
TZOFFSETTO:+0200
TZNAME:EET
DTSTART:20181028T010000
END:STANDARD
END:VTIMEZONE
BEGIN:VEVENT
DTSTART;TZID=Europe/Tallinn:20170722T110000
DTEND;TZID=Europe/Tallinn:20170722T150000
DTSTAMP:20260419T185014
CREATED:20170607T061414Z
LAST-MODIFIED:20170707T123650Z
UID:328-1500721200-1500735600@kiisaalevik.ee
SUMMARY:Kohvikutepäev
DESCRIPTION:Sel suvel toimub juba neljas Kiisa kohvikutepäev! Hea uudisena lisaks\, et sel aastal laiendame piirkonda ja kodukohvikud avavad oma uksed ka Aespa külas! \nIga aastaga on juurde tulnud nii kohvikuid kui ka külastajaid. Viimati avas oma koduuksed rahvale juba 10 peret-sõpruskonda. Iga kohvik oli omamoodi ja külastajaid jätkus kõikjale. Tegelikult lõppes nii mõneski kohvikus toit enne otsa kui külastajate voorid\, sest pakutav oli väga hea. Meeleolu oli rõõmus\, pered said koos välja tulla ja mõnusalt sõprade ning tuttavatega juttu ajades lasta pakutaval hea maitsta. Ja see hea tunne\, mis tekib kohtumistest omakandi inimestega\, naeratustest ja tervitustest – see ongi kõige olulisem. Sellepärast on Kiisa kohvikutepäev järjest populaarsemaks muutunud.\nSel aastal tahame seda kõike taas kogeda ning loodame\, et oma kodukohviku uksed avavad nii eelmistel aastatel osalenud kui ka mitmed uued tegijad. Teie kodused\, huvitavad\, armsad ja omanäolised kohvikud on väga oodatud! \nEt leida mugavalt lähim kohvik\, kasuta äppi LiveTeam\, mis on saadaval nii Google Plays kui ka AppStores \n \n  \n 
URL:https://kiisaalevik.ee/uritus/kohvikutepaev/
ORGANIZER;CN="KENA ehk Kiisa Ettev%C3%B5tlike Naiste Aktiivi naised":MAILTO:kiisaalevik@gmail.com
END:VEVENT
BEGIN:VEVENT
DTSTART;VALUE=DATE:20170506
DTEND;VALUE=DATE:20170507
DTSTAMP:20260419T185014
CREATED:20170427T132325Z
LAST-MODIFIED:20170606T095501Z
UID:265-1494028800-1494115199@kiisaalevik.ee
SUMMARY:KENA ehk Kiisa Ettevõtlike Naiste ÜLESKUTSE - Maikuu on HEAKORRAKUU Kiisa alevikus
DESCRIPTION:Meile meeldib meie kodukoht!\n\nKiisal on palju kenasid ja hoolitsetud aedasid\, on mõnusad marja- ja seenemetsad ning siit lookleb läbi käänuline kaunis jõgi. \nSelleks\, et meil endil\, meie peredel\, sõpradel ja külalistel siin hea oleks otsustasidki KENA ehk Kiisa Ettevõtlike Naiste Aktiivi naised kuulutada välja Kiisa heakorrakuu. Kogu meie alevikus leidub kohti\, mis vajaksid tähelepanu ja hoolitsevat kätt. Nüüd on igaühel võimalus märgata ja anda teada ka teistele\, kus on need kohad\, mida me saaksime ühiselt või valla abiga korrastada. Kindlasti saab igaüks ka ise nii mõndagi oma kodu ümbruses paremaks\, puhtamaks või kaunimaks teha. \n\n\nRõõmsat kaasalöömist ja jaga seda sõnumit ka oma naabritega!
URL:https://kiisaalevik.ee/uritus/kena-ehk-kiisa-ettevotlike-naiste-uleskutse-maikuu-on-heakorrakuu-kiisa-alevikus/
LOCATION:Kiisa alevik\, 75503\, Eesti
ORGANIZER;CN="KENA ehk Kiisa Ettev%C3%B5tlike Naiste Aktiivi naised":MAILTO:kiisaalevik@gmail.com
END:VEVENT
END:VCALENDAR